BEGIN:VCALENDAR
VERSION:2.0
PRODID:-//wp-events-plugin.com//7.2.3.1//EN
TZID:Europe/London
X-WR-TIMEZONE:Europe/London
BEGIN:VEVENT
UID:224@goodtimegames.co.uk
DTSTART;TZID=Europe/London:20260317T183000
DTEND;TZID=Europe/London:20260317T223000
DTSTAMP:20260107T110420Z
URL:https://goodtimegames.co.uk/events/blood-on-the-clocktower-sects-viole
 ts/
SUMMARY:Blood on the Clocktower - Sects & Violets
DESCRIPTION:Our more advanced botc session! If you haven't played before tr
 y our Trouble Brewing beginner sessions! 
ATTACH;FMTTYPE=image/jpeg:https://goodtimegames.co.uk/wp-content/uploads/2
 023/04/BOTC-Banner-Instagram-Post-Square-1.jpg
CATEGORIES:Social Deduction,Special Event,Specific Game
LOCATION:Goodtime Games\, 212 Burton Road\, West Didsbury\, Manchester\, Gr
 eater Manchester\, M20 2LW\, United Kingdom
GEO:53.426585;-2.242969
X-APPLE-STRUCTURED-LOCATION;VALUE=URI;X-ADDRESS=212 Burton Road\, West Dids
 bury\, Manchester\, Greater Manchester\, M20 2LW\, United Kingdom;X-APPLE-
 RADIUS=100;X-TITLE=Goodtime Games:geo:53.426585,-2.242969
END:VEVENT
BEGIN:VTIMEZONE
TZID:Europe/London
X-LIC-LOCATION:Europe/London
BEGIN:STANDARD
DTSTART:20251026T010000
TZOFFSETFROM:+0100
TZOFFSETTO:+0000
TZNAME:GMT
END:STANDARD
END:VTIMEZONE
END:VCALENDAR